BEGIN:VCALENDAR
VERSION:2.0
PRODID:-//94.130.255.168//NONSGML kigkonsult.se iCalcreator 2.20//
CALSCALE:GREGORIAN
METHOD:PUBLISH
X-WR-TIMEZONE:UTC
BEGIN:VEVENT
UID:event1465@SKK Mörslingen
DTSTAMP:20260425T183440Z
CATEGORIES:Deutsche Meisterschaften 2019
DESCRIPTION:Deutsche Meisterschaften Senioren\nKategorie: Deutsche Meisters
 chaften 2019\nICS-Link: https://skk-moerslingen.de/index.php?option=com_je
 m&view=event&id=1465:deutsche-meisterschaften-senioren\n
DTSTART;VALUE=DATE:20190629
DTEND;VALUE=DATE:20190701
LOCATION:Classic-Treff\,Am Altstadtplatz 15\,67071 Ludwigshafen - Oggershei
 m
SUMMARY:Deutsche Meisterschaften Senioren
URL:https://skk-moerslingen.de/index.php?option=com_jem&view=event&id=1465:
 deutsche-meisterschaften-senioren
END:VEVENT
END:VCALENDAR