BEGIN:VCALENDAR
VERSION:2.0
PRODID:-//94.130.255.168//NONSGML kigkonsult.se iCalcreator 2.20//
CALSCALE:GREGORIAN
METHOD:PUBLISH
X-WR-TIMEZONE:UTC
BEGIN:VEVENT
UID:event1467@SKK Mörslingen
DTSTAMP:20260421T012154Z
CATEGORIES:Deutsche Meisterschaften 2019
DESCRIPTION:Deutsche Meisterschaften Tandem Mixed international\nKategorie:
  Deutsche Meisterschaften 2019\nICS-Link: https://skk-moerslingen.de/index
 .php?option=com_jem&view=event&id=1467:deutsche-meisterschaften-tandem-mix
 ed-international\n
DTSTART;VALUE=DATE:20190623
DTEND;VALUE=DATE:20190624
LOCATION:Classic-Treff\,Am Altstadtplatz 15\,67071 Ludwigshafen - Oggershei
 m
SUMMARY:Deutsche Meisterschaften Tandem Mixed international
URL:https://skk-moerslingen.de/index.php?option=com_jem&view=event&id=1467:
 deutsche-meisterschaften-tandem-mixed-international
END:VEVENT
END:VCALENDAR