BEGIN:VCALENDAR
VERSION:2.0
PRODID:-//94.130.255.168//NONSGML kigkonsult.se iCalcreator 2.20//
CALSCALE:GREGORIAN
METHOD:PUBLISH
X-WR-TIMEZONE:UTC
BEGIN:VEVENT
UID:event1480@SKK Mörslingen
DTSTAMP:20260420T211644Z
CATEGORIES:Bayerische Meisterschaften 2019
DESCRIPTION:Bayerische Meisterschaften Seniorinnen\nKategorie: Bayerische M
 eisterschaften 2019\nICS-Link: https://skk-moerslingen.de/index.php?option
 =com_jem&view=event&id=1480:bayerische-meisterschaften-seniorinnen\n
DTSTART;VALUE=DATE:20190601
DTEND;VALUE=DATE:20190603
LOCATION:Kegelstuben Karlstadt\,Baggertsweg 9\,97753 Karlstadt
SUMMARY:Bayerische Meisterschaften Seniorinnen
URL:https://skk-moerslingen.de/index.php?option=com_jem&view=event&id=1480:
 bayerische-meisterschaften-seniorinnen
END:VEVENT
END:VCALENDAR