BEGIN:VCALENDAR
VERSION:2.0
PRODID:-//94.130.255.168//NONSGML kigkonsult.se iCalcreator 2.20//
CALSCALE:GREGORIAN
METHOD:PUBLISH
X-WR-TIMEZONE:UTC
BEGIN:VEVENT
UID:event1486@SKK Mörslingen
DTSTAMP:20260421T054522Z
CATEGORIES:Freundschaftsspiel
DESCRIPTION:3. Sommer-Cup\nKategorie: Freundschaftsspiel\nICS-Link: https:/
 /skk-moerslingen.de/index.php?option=com_jem&view=event&id=1486:3-sommer-c
 up\n
DTSTART:20190907T140000Z
DTEND:20190907T140000Z
LOCATION:Sportheim\,Am Sportplatz 1\,85107 Baar-Ebenhausen
SUMMARY:3. Sommer-Cup
URL:https://skk-moerslingen.de/index.php?option=com_jem&view=event&id=1486:
 3-sommer-cup
END:VEVENT
END:VCALENDAR