BEGIN:VCALENDAR
VERSION:2.0
PRODID:-//94.130.255.168//NONSGML kigkonsult.se iCalcreator 2.20//
CALSCALE:GREGORIAN
METHOD:PUBLISH
X-WR-TIMEZONE:UTC
BEGIN:VEVENT
UID:event1528@SKK Mörslingen
DTSTAMP:20260420T232018Z
CATEGORIES:Kreismeisterschaften 2020
DESCRIPTION:Vorlauf Kreismeisterschaften Herren\nKategorie: Kreismeistersch
 aften 2020\nICS-Link: https://skk-moerslingen.de/index.php?option=com_jem&
 view=event&id=1528:vorlauf-kreismeisterschaften-herren\n
DTSTART;VALUE=DATE:20200125
DTEND;VALUE=DATE:20200126
LOCATION:Landgasthof „Zum Schlössle'\,Am Schößle 1\,89435 Finningen
SUMMARY:Vorlauf Kreismeisterschaften Herren
URL:https://skk-moerslingen.de/index.php?option=com_jem&view=event&id=1528:
 vorlauf-kreismeisterschaften-herren
END:VEVENT
END:VCALENDAR