BEGIN:VCALENDAR
VERSION:2.0
PRODID:-//94.130.255.168//NONSGML kigkonsult.se iCalcreator 2.20//
CALSCALE:GREGORIAN
METHOD:PUBLISH
X-WR-TIMEZONE:UTC
BEGIN:VEVENT
UID:event1530@SKK Mörslingen
DTSTAMP:20260420T231323Z
CATEGORIES:Kreismeisterschaften 2020
DESCRIPTION:Vorlauf Kreismeisterschaften Frauen/Juniorinnen/Seniorinnen\nKa
 tegorie: Kreismeisterschaften 2020\nICS-Link: https://skk-moerslingen.de/i
 ndex.php?option=com_jem&view=event&id=1530:vorlauf-kreismeisterschaften-fr
 auen-juniorinnen-seniorinnen\n
DTSTART;VALUE=DATE:20200125
DTEND;VALUE=DATE:20200126
LOCATION:Kleeblattstuben\,Hubertusstraße 5\,89407 Schretzheim
SUMMARY:Vorlauf Kreismeisterschaften Frauen/Juniorinnen/Seniorinnen
URL:https://skk-moerslingen.de/index.php?option=com_jem&view=event&id=1530:
 vorlauf-kreismeisterschaften-frauen-juniorinnen-seniorinnen
END:VEVENT
END:VCALENDAR