BEGIN:VCALENDAR
VERSION:2.0
PRODID:-//94.130.255.168//NONSGML kigkonsult.se iCalcreator 2.20//
CALSCALE:GREGORIAN
METHOD:PUBLISH
X-WR-TIMEZONE:UTC
BEGIN:VEVENT
UID:event1532@SKK Mörslingen
DTSTAMP:20260420T231538Z
CATEGORIES:Kreismeisterschaften 2020
DESCRIPTION:Vorlauf Kreismeisterschaften Seniorinnen B/C\nKategorie: Kreism
 eisterschaften 2020\nICS-Link: https://skk-moerslingen.de/index.php?option
 =com_jem&view=event&id=1532:vorlauf-kreismeisterschaften-seniorinnen-b-c\n
DTSTART;VALUE=DATE:20200125
DTEND;VALUE=DATE:20200126
LOCATION:TSV Sportheim\,Donauwörther Straße 43\,86641 Rain
SUMMARY:Vorlauf Kreismeisterschaften Seniorinnen B/C
URL:https://skk-moerslingen.de/index.php?option=com_jem&view=event&id=1532:
 vorlauf-kreismeisterschaften-seniorinnen-b-c
END:VEVENT
END:VCALENDAR