BEGIN:VCALENDAR
VERSION:2.0
PRODID:-//94.130.255.168//NONSGML kigkonsult.se iCalcreator 2.20//
CALSCALE:GREGORIAN
METHOD:PUBLISH
X-WR-TIMEZONE:UTC
BEGIN:VEVENT
UID:event1627@SKK Mörslingen
DTSTAMP:20260419T135908Z
CATEGORIES:Spielerversammlungen 2020-2021
DESCRIPTION:Spielerversammlung\nKategorie: Spielerversammlungen 2020-2021\n
 ICS-Link: https://skk-moerslingen.de/index.php?option=com_jem&view=event&i
 d=1627:spielerversammlung\n
DTSTART:20201015T200000Z
DTEND:20201015T200000Z
LOCATION:Landgasthof „Zum Schlössle'\,Am Schößle 1\,89435 Finningen
SUMMARY:Spielerversammlung
URL:https://skk-moerslingen.de/index.php?option=com_jem&view=event&id=1627:
 spielerversammlung
END:VEVENT
END:VCALENDAR