BEGIN:VCALENDAR
VERSION:2.0
PRODID:-//94.130.255.168//NONSGML kigkonsult.se iCalcreator 2.20//
CALSCALE:GREGORIAN
METHOD:PUBLISH
X-WR-TIMEZONE:UTC
BEGIN:VEVENT
UID:event1660@SKK Mörslingen
DTSTAMP:20260421T093535Z
CATEGORIES:Jahreshauptversammlung mit Saisonabschlussfeier
DESCRIPTION:Jahreshauptversammlung\nKategorie: Jahreshauptversammlung mit S
 aisonabschlussfeier\nICS-Link: https://skk-moerslingen.de/index.php?option
 =com_jem&view=event&id=1660:jahreshauptversammlung\n
DTSTART:20210702T190000Z
DTEND:20210702T190000Z
LOCATION:Landgasthof „Zum Schlössle'\,Am Schößle 1\,89435 Finningen
SUMMARY:Jahreshauptversammlung
URL:https://skk-moerslingen.de/index.php?option=com_jem&view=event&id=1660:
 jahreshauptversammlung
END:VEVENT
END:VCALENDAR