BEGIN:VCALENDAR
VERSION:2.0
PRODID:-//94.130.255.168//NONSGML kigkonsult.se iCalcreator 2.20//
CALSCALE:GREGORIAN
METHOD:PUBLISH
X-WR-TIMEZONE:UTC
BEGIN:VEVENT
UID:event1689@SKK Mörslingen
DTSTAMP:20260424T030511Z
CATEGORIES:Pokalspiel
DESCRIPTION:Finale Kreisklassenpokal Jugend\nKategorie: Pokalspiel\nICS-Lin
 k: https://skk-moerslingen.de/index.php?option=com_jem&view=event&id=1689:
 finale-kreisklassenpokal-jugend\n
DTSTART:20211127T103000Z
DTEND:20211127T103000Z
LOCATION:Landgasthof „Zum Schlössle'\,Am Schößle 1\,89435 Finningen
SUMMARY:Finale Kreisklassenpokal Jugend
URL:https://skk-moerslingen.de/index.php?option=com_jem&view=event&id=1689:
 finale-kreisklassenpokal-jugend
END:VEVENT
END:VCALENDAR