BEGIN:VCALENDAR
VERSION:2.0
PRODID:-//94.130.255.168//NONSGML kigkonsult.se iCalcreator 2.20//
CALSCALE:GREGORIAN
METHOD:PUBLISH
X-WR-TIMEZONE:UTC
BEGIN:VEVENT
UID:event1690@SKK Mörslingen
DTSTAMP:20260424T030621Z
CATEGORIES:Pokalspiel
DESCRIPTION:Finale Kreisklassenpokal\nKategorie: Pokalspiel\nICS-Link: http
 s://skk-moerslingen.de/index.php?option=com_jem&view=event&id=1690:finale-
 kreisklassenpokal\n
DTSTART:20211127T140000Z
DTEND:20211127T140000Z
LOCATION:Landgasthof „Zum Schlössle'\,Am Schößle 1\,89435 Finningen
SUMMARY:Finale Kreisklassenpokal
URL:https://skk-moerslingen.de/index.php?option=com_jem&view=event&id=1690:
 finale-kreisklassenpokal
END:VEVENT
END:VCALENDAR