BEGIN:VCALENDAR
VERSION:2.0
PRODID:-//94.130.255.168//NONSGML kigkonsult.se iCalcreator 2.20//
CALSCALE:GREGORIAN
METHOD:PUBLISH
X-WR-TIMEZONE:UTC
BEGIN:VEVENT
UID:event1765@SKK Mörslingen
DTSTAMP:20260422T192214Z
CATEGORIES:Versammlungen und Veranstaltungen
DESCRIPTION:Bezirksversammlung in Wertingen\nKategorie: Versammlungen und V
 eranstaltungen\nICS-Link: https://skk-moerslingen.de/index.php?option=com_
 jem&view=event&id=1765:bezirksversammlung-in-wertingen\n
DTSTART:20220911T100000Z
DTEND:20220911T100000Z
SUMMARY:Bezirksversammlung in Wertingen
URL:https://skk-moerslingen.de/index.php?option=com_jem&view=event&id=1765:
 bezirksversammlung-in-wertingen
END:VEVENT
END:VCALENDAR