BEGIN:VCALENDAR
VERSION:2.0
PRODID:-//94.130.255.168//NONSGML kigkonsult.se iCalcreator 2.20//
CALSCALE:GREGORIAN
METHOD:PUBLISH
X-WR-TIMEZONE:UTC
BEGIN:VEVENT
UID:event1766@SKK Mörslingen
DTSTAMP:20260421T194408Z
CATEGORIES:Spielerversammlungen 2022-2023
DESCRIPTION:Spielerversammlung\nKategorie: Spielerversammlungen 2022-2023\n
 ICS-Link: https://skk-moerslingen.de/index.php?option=com_jem&view=event&i
 d=1766:spielerversammlung\n
DTSTART:20220901T200000Z
DTEND:20220901T200000Z
LOCATION:Landgasthof „Zum Schlössle'\,Am Schößle 1\,89435 Finningen
SUMMARY:Spielerversammlung
URL:https://skk-moerslingen.de/index.php?option=com_jem&view=event&id=1766:
 spielerversammlung
END:VEVENT
END:VCALENDAR