BEGIN:VCALENDAR
VERSION:2.0
PRODID:-//94.130.255.168//NONSGML kigkonsult.se iCalcreator 2.20//
CALSCALE:GREGORIAN
METHOD:PUBLISH
X-WR-TIMEZONE:UTC
BEGIN:VEVENT
UID:event1852@SKK Mörslingen
DTSTAMP:20260419T160702Z
CATEGORIES:Versammlungen und Veranstaltungen
DESCRIPTION:Kreisabschlussfeier\nKategorie: Versammlungen und Veranstaltung
 en\nICS-Link: https://skk-moerslingen.de/index.php?option=com_jem&view=eve
 nt&id=1852:kreisabschlussfeier\n
DTSTART:20230414T193000Z
DTEND:20230414T193000Z
LOCATION:Landgasthof „Zum Schlössle'\,Am Schößle 1\,89435 Finningen
SUMMARY:Kreisabschlussfeier
URL:https://skk-moerslingen.de/index.php?option=com_jem&view=event&id=1852:
 kreisabschlussfeier
END:VEVENT
END:VCALENDAR