BEGIN:VCALENDAR
VERSION:2.0
PRODID:-//94.130.255.168//NONSGML kigkonsult.se iCalcreator 2.20//
CALSCALE:GREGORIAN
METHOD:PUBLISH
X-WR-TIMEZONE:UTC
BEGIN:VEVENT
UID:event1874@SKK Mörslingen
DTSTAMP:20260421T012240Z
CATEGORIES:Vereinsmeisterschaften
DESCRIPTION:Vereinsmeisterschaft 2023 Frauen\nKategorie: Vereinsmeisterscha
 ften\nICS-Link: https://skk-moerslingen.de/index.php?option=com_jem&view=e
 vent&id=1874:vereinsmeisterschaft-2023-frauen\n
DTSTART:20230601T170000Z
DTEND:20230601T170000Z
LOCATION:Landgasthof „Zum Schlössle'\,Am Schößle 1\,89435 Finningen
SUMMARY:Vereinsmeisterschaft 2023 Frauen
URL:https://skk-moerslingen.de/index.php?option=com_jem&view=event&id=1874:
 vereinsmeisterschaft-2023-frauen
END:VEVENT
END:VCALENDAR