BEGIN:VCALENDAR
VERSION:2.0
PRODID:-//94.130.255.168//NONSGML kigkonsult.se iCalcreator 2.20//
CALSCALE:GREGORIAN
METHOD:PUBLISH
X-WR-TIMEZONE:UTC
BEGIN:VEVENT
UID:event1906@SKK Mörslingen
DTSTAMP:20260420T151819Z
CATEGORIES:Spielerversammlungen 2023-2024
DESCRIPTION:Spielerversammlung mit Top-Vier-turnier\nKategorie: Spielervers
 ammlungen 2023-2024\nICS-Link: https://skk-moerslingen.de/index.php?option
 =com_jem&view=event&id=1906:spielerversammlung-mit-top-vier-turnier\n
DTSTART:20240229T200000Z
DTEND:20240229T200000Z
LOCATION:Landgasthof „Zum Schlössle'\,Am Schößle 1\,89435 Finningen
SUMMARY:Spielerversammlung mit Top-Vier-turnier
URL:https://skk-moerslingen.de/index.php?option=com_jem&view=event&id=1906:
 spielerversammlung-mit-top-vier-turnier
END:VEVENT
END:VCALENDAR