BEGIN:VCALENDAR
VERSION:2.0
PRODID:-//94.130.255.168//NONSGML kigkonsult.se iCalcreator 2.20//
CALSCALE:GREGORIAN
METHOD:PUBLISH
X-WR-TIMEZONE:UTC
BEGIN:VEVENT
UID:event1910@SKK Mörslingen
DTSTAMP:20260426T043926Z
CATEGORIES:Kreismeisterschaften 2024
DESCRIPTION:Kreismeisterschaften Jugend\nKategorie: Kreismeisterschaften 20
 24\nICS-Link: https://skk-moerslingen.de/index.php?option=com_jem&view=eve
 nt&id=1910:kreismeisterschaften-jugend\n
DTSTART;VALUE=DATE:20231104
DTEND;VALUE=DATE:20231106
LOCATION:SSV Höchstädt\,Pfalz-Neuburg-Straße 23\,89420 Höchstädt
SUMMARY:Kreismeisterschaften Jugend
URL:https://skk-moerslingen.de/index.php?option=com_jem&view=event&id=1910:
 kreismeisterschaften-jugend
END:VEVENT
END:VCALENDAR