BEGIN:VCALENDAR
VERSION:2.0
PRODID:-//94.130.255.168//NONSGML kigkonsult.se iCalcreator 2.20//
CALSCALE:GREGORIAN
METHOD:PUBLISH
X-WR-TIMEZONE:UTC
BEGIN:VEVENT
UID:event1977@SKK Mörslingen
DTSTAMP:20260425T023132Z
CATEGORIES:Jahreshauptversammlung mit Saisonabschlussfeier
DESCRIPTION:Jahreshauptversammlung mit Saisonabschlussfeier\nKategorie: Jah
 reshauptversammlung mit Saisonabschlussfeier\nICS-Link: https://skk-moersl
 ingen.de/index.php?option=com_jem&view=event&id=1977:jahreshauptversammlun
 g-mit-saisonabschlussfeier\n
DTSTART:20240705T193000Z
DTEND:20240705T193000Z
LOCATION:Landgasthof „Zum Schlössle'\,Am Schößle 1\,89435 Finningen
SUMMARY:Jahreshauptversammlung mit Saisonabschlussfeier
URL:https://skk-moerslingen.de/index.php?option=com_jem&view=event&id=1977:
 jahreshauptversammlung-mit-saisonabschlussfeier
END:VEVENT
END:VCALENDAR