BEGIN:VCALENDAR
VERSION:2.0
PRODID:-//94.130.255.168//NONSGML kigkonsult.se iCalcreator 2.20//
CALSCALE:GREGORIAN
METHOD:PUBLISH
X-WR-TIMEZONE:UTC
BEGIN:VEVENT
UID:event1990@SKK Mörslingen
DTSTAMP:20260425T030412Z
CATEGORIES:Bezirksmeisterschaften 2024
DESCRIPTION:Bezirksmeisterschaften Tandem Mixed klassisch\nKategorie: Bezir
 ksmeisterschaften 2024\nICS-Link: https://skk-moerslingen.de/index.php?opt
 ion=com_jem&view=event&id=1990:bezirksmeisterschaften-tandem-mixed-klassis
 ch\n
DTSTART;VALUE=DATE:20240512
DTEND;VALUE=DATE:20240513
LOCATION:Mehrzweckhalle Gerlenhofen\,Gotenstraße 12\,89233 Gerlenhofen
SUMMARY:Bezirksmeisterschaften Tandem Mixed klassisch
URL:https://skk-moerslingen.de/index.php?option=com_jem&view=event&id=1990:
 bezirksmeisterschaften-tandem-mixed-klassisch
END:VEVENT
END:VCALENDAR