BEGIN:VCALENDAR
VERSION:2.0
PRODID:-//94.130.255.168//NONSGML kigkonsult.se iCalcreator 2.20//
CALSCALE:GREGORIAN
METHOD:PUBLISH
X-WR-TIMEZONE:UTC
BEGIN:VEVENT
UID:event2006@SKK Mörslingen
DTSTAMP:20260425T025645Z
CATEGORIES:Deutsche Meisterschaften 2024
DESCRIPTION:Deutsche Meisterschaften Jugend\nKategorie: Deutsche Meistersch
 aften 2024\nICS-Link: https://skk-moerslingen.de/index.php?option=com_jem&
 view=event&id=2006:deutsche-meisterschaften-jugend\n
DTSTART;VALUE=DATE:20240511
DTEND;VALUE=DATE:20240513
LOCATION:Münchner Kegel Verein\,Säbener Straße 49\,81547 München
SUMMARY:Deutsche Meisterschaften Jugend
URL:https://skk-moerslingen.de/index.php?option=com_jem&view=event&id=2006:
 deutsche-meisterschaften-jugend
END:VEVENT
END:VCALENDAR