BEGIN:VCALENDAR
VERSION:2.0
PRODID:-//94.130.255.168//NONSGML kigkonsult.se iCalcreator 2.20//
CALSCALE:GREGORIAN
METHOD:PUBLISH
X-WR-TIMEZONE:UTC
BEGIN:VEVENT
UID:event2008@SKK Mörslingen
DTSTAMP:20260424T142348Z
CATEGORIES:Versammlungen
DESCRIPTION:Kreisversammlung\nKategorie: Versammlungen\nICS-Link: https://s
 kk-moerslingen.de/index.php?option=com_jem&view=event&id=2008:kreisversamm
 lung\n
DTSTART:20240510T193000Z
DTEND:20240510T193000Z
LOCATION:TSV Sportheim\,Donauwörther Straße 43\,86641 Rain
SUMMARY:Kreisversammlung
URL:https://skk-moerslingen.de/index.php?option=com_jem&view=event&id=2008:
 kreisversammlung
END:VEVENT
END:VCALENDAR