BEGIN:VCALENDAR
VERSION:2.0
PRODID:-//94.130.255.168//NONSGML kigkonsult.se iCalcreator 2.20//
CALSCALE:GREGORIAN
METHOD:PUBLISH
X-WR-TIMEZONE:UTC
BEGIN:VEVENT
UID:event2012@SKK Mörslingen
DTSTAMP:20260423T014410Z
CATEGORIES:Vorstandschaftssitzung
DESCRIPTION:Vorstandschaftssitzung\nKategorie: Vorstandschaftssitzung\nICS-
 Link: https://skk-moerslingen.de/index.php?option=com_jem&view=event&id=20
 12:vorstandschaftssitzung\n
DTSTART:20240617T183000Z
DTEND:20240617T183000Z
SUMMARY:Vorstandschaftssitzung
URL:https://skk-moerslingen.de/index.php?option=com_jem&view=event&id=2012:
 vorstandschaftssitzung
END:VEVENT
END:VCALENDAR