BEGIN:VCALENDAR
VERSION:2.0
PRODID:-//94.130.255.168//NONSGML kigkonsult.se iCalcreator 2.20//
CALSCALE:GREGORIAN
METHOD:PUBLISH
X-WR-TIMEZONE:UTC
BEGIN:VEVENT
UID:event2091@SKK Mörslingen
DTSTAMP:20260419T135908Z
CATEGORIES:Kreisklassenpokal
DESCRIPTION:Kreisklassenpokal\nKategorie: Kreisklassenpokal\nICS-Link: http
 s://skk-moerslingen.de/index.php?option=com_jem&view=event&id=2091:kreiskl
 assenpokal\n
DTSTART;VALUE=DATE:20241123
DTEND;VALUE=DATE:20241125
LOCATION:Birktalbahnen\,Bachgasse 28\,85110 Kipfenberg
SUMMARY:Kreisklassenpokal
URL:https://skk-moerslingen.de/index.php?option=com_jem&view=event&id=2091:
 kreisklassenpokal
END:VEVENT
END:VCALENDAR