BEGIN:VCALENDAR
VERSION:2.0
PRODID:-//94.130.255.168//NONSGML kigkonsult.se iCalcreator 2.20//
CALSCALE:GREGORIAN
METHOD:PUBLISH
X-WR-TIMEZONE:UTC
BEGIN:VEVENT
UID:event2092@SKK Mörslingen
DTSTAMP:20260420T052600Z
CATEGORIES:Kreismeisterschaften 2025
DESCRIPTION:KM Jugend Tandem \nKategorie: Kreismeisterschaften 2025\nICS-Li
 nk: https://skk-moerslingen.de/index.php?option=com_jem&view=event&id=2092
 :km-jugend-tandem\n
DTSTART;VALUE=DATE:20241109
DTEND;VALUE=DATE:20241111
LOCATION:Städtische Mehrfachturnhalle\,Berliner Straße 162\,86633 Neuburg
SUMMARY:KM Jugend Tandem 
URL:https://skk-moerslingen.de/index.php?option=com_jem&view=event&id=2092:
 km-jugend-tandem
END:VEVENT
END:VCALENDAR