BEGIN:VCALENDAR
VERSION:2.0
PRODID:-//94.130.255.168//NONSGML kigkonsult.se iCalcreator 2.20//
CALSCALE:GREGORIAN
METHOD:PUBLISH
X-WR-TIMEZONE:UTC
BEGIN:VEVENT
UID:event2101@SKK Mörslingen
DTSTAMP:20260420T015307Z
CATEGORIES:Kreismeisterschaften 2025
DESCRIPTION:Endläufe KM Seniorinnen\nKategorie: Kreismeisterschaften 2025\n
 ICS-Link: https://skk-moerslingen.de/index.php?option=com_jem&view=event&i
 d=2101:endlaeufe-km-seniorinnen\n
DTSTART;VALUE=DATE:20250125
DTEND;VALUE=DATE:20250127
LOCATION:Kleeblattstuben\,Hubertusstraße 5\,89407 Schretzheim
SUMMARY:Endläufe KM Seniorinnen
URL:https://skk-moerslingen.de/index.php?option=com_jem&view=event&id=2101:
 endlaeufe-km-seniorinnen
END:VEVENT
END:VCALENDAR