BEGIN:VCALENDAR
VERSION:2.0
PRODID:-//94.130.255.168//NONSGML kigkonsult.se iCalcreator 2.20//
CALSCALE:GREGORIAN
METHOD:PUBLISH
X-WR-TIMEZONE:UTC
BEGIN:VEVENT
UID:event2103@SKK Mörslingen
DTSTAMP:20260426T025131Z
CATEGORIES:Bezirksmeisterschaften 2025
DESCRIPTION:Bezirksmeisterschaften Tandem Jugend\nKategorie: Bezirksmeister
 schaften 2025\nICS-Link: https://skk-moerslingen.de/index.php?option=com_j
 em&view=event&id=2103:bezirksmeisterschaften-tandem-jugend\n
DTSTART;VALUE=DATE:20241214
DTEND;VALUE=DATE:20241216
LOCATION:Sportheim SV Eitensheim\,Pestalozzistraße 3\,85117 Eitensheim
SUMMARY:Bezirksmeisterschaften Tandem Jugend
URL:https://skk-moerslingen.de/index.php?option=com_jem&view=event&id=2103:
 bezirksmeisterschaften-tandem-jugend
END:VEVENT
END:VCALENDAR