BEGIN:VCALENDAR
VERSION:2.0
PRODID:-//94.130.255.168//NONSGML kigkonsult.se iCalcreator 2.20//
CALSCALE:GREGORIAN
METHOD:PUBLISH
X-WR-TIMEZONE:UTC
BEGIN:VEVENT
UID:event2126@SKK Mörslingen
DTSTAMP:20260425T174425Z
CATEGORIES:Kreispokal
DESCRIPTION:Kreispokal: TSV Aichach - SKK Mörslingen\nKategorie: Kreispokal
 \nICS-Link: https://skk-moerslingen.de/index.php?option=com_jem&view=event
 &id=2126:kreispokal-tsv-aichach-skk-moerslingen\n
DTSTART:20241110T110000Z
DTEND:20241110T110000Z
LOCATION:TSV Aichach\,Donauwörther Straße 12\,86551 Aichach
SUMMARY:Kreispokal: TSV Aichach - SKK Mörslingen
URL:https://skk-moerslingen.de/index.php?option=com_jem&view=event&id=2126:
 kreispokal-tsv-aichach-skk-moerslingen
END:VEVENT
END:VCALENDAR