BEGIN:VCALENDAR
VERSION:2.0
PRODID:-//94.130.255.168//NONSGML kigkonsult.se iCalcreator 2.20//
CALSCALE:GREGORIAN
METHOD:PUBLISH
X-WR-TIMEZONE:UTC
BEGIN:VEVENT
UID:event2128@SKK Mörslingen
DTSTAMP:20260420T015926Z
CATEGORIES:Kreismeisterschaften 2025
DESCRIPTION:Endläufe KM Senioren\nKategorie: Kreismeisterschaften 2025\nICS
 -Link: https://skk-moerslingen.de/index.php?option=com_jem&view=event&id=2
 128:endlaeufe-km-senioren\n
DTSTART;VALUE=DATE:20250125
DTEND;VALUE=DATE:20250127
LOCATION:SSV Höchstädt\,Pfalz-Neuburg-Straße 23\,89420 Höchstädt
SUMMARY:Endläufe KM Senioren
URL:https://skk-moerslingen.de/index.php?option=com_jem&view=event&id=2128:
 endlaeufe-km-senioren
END:VEVENT
END:VCALENDAR