BEGIN:VCALENDAR
VERSION:2.0
PRODID:-//94.130.255.168//NONSGML kigkonsult.se iCalcreator 2.20//
CALSCALE:GREGORIAN
METHOD:PUBLISH
X-WR-TIMEZONE:UTC
BEGIN:VEVENT
UID:event2239@SKK Mörslingen
DTSTAMP:20260420T200152Z
CATEGORIES:Deutsche Meisterschaften 2026
DESCRIPTION:Deutsche Meisterschaften Aktive\nKategorie: Deutsche Meistersch
 aften 2026\nICS-Link: https://skk-moerslingen.de/index.php?option=com_jem&
 view=event&id=2239:deutsche-meisterschaften-aktive\n
DTSTART;VALUE=DATE:20260613
DTEND;VALUE=DATE:20260615
LOCATION:Münchner Kegel Verein\,Säbener Straße 49\,81547 München
SUMMARY:Deutsche Meisterschaften Aktive
URL:https://skk-moerslingen.de/index.php?option=com_jem&view=event&id=2239:
 deutsche-meisterschaften-aktive
END:VEVENT
END:VCALENDAR