BEGIN:VCALENDAR
VERSION:2.0
PRODID:-//94.130.255.168//NONSGML kigkonsult.se iCalcreator 2.20//
CALSCALE:GREGORIAN
METHOD:PUBLISH
X-WR-TIMEZONE:UTC
BEGIN:VEVENT
UID:event2240@SKK Mörslingen
DTSTAMP:20260420T195948Z
CATEGORIES:Deutsche Meisterschaften 2026
DESCRIPTION:Deutsche Jugendmeisterschaften\nKategorie: Deutsche Meisterscha
 ften 2026\nICS-Link: https://skk-moerslingen.de/index.php?option=com_jem&v
 iew=event&id=2240:deutsche-jugendmeisterschaften\n
DTSTART;VALUE=DATE:20260516
DTEND;VALUE=DATE:20260518
LOCATION:Münchner Kegel Verein\,Säbener Straße 49\,81547 München
SUMMARY:Deutsche Jugendmeisterschaften
URL:https://skk-moerslingen.de/index.php?option=com_jem&view=event&id=2240:
 deutsche-jugendmeisterschaften
END:VEVENT
END:VCALENDAR