BEGIN:VCALENDAR
VERSION:2.0
PRODID:-//94.130.255.168//NONSGML kigkonsult.se iCalcreator 2.20//
CALSCALE:GREGORIAN
METHOD:PUBLISH
X-WR-TIMEZONE:UTC
BEGIN:VEVENT
UID:event2242@SKK Mörslingen
DTSTAMP:20260420T212612Z
CATEGORIES:Deutsche Meisterschaften 2026
DESCRIPTION:Deutsche Meisterschaften Senioren\nKategorie: Deutsche Meisters
 chaften 2026\nICS-Link: https://skk-moerslingen.de/index.php?option=com_je
 m&view=event&id=2242:deutsche-meisterschaften-senioren\n
DTSTART;VALUE=DATE:20260627
DTEND;VALUE=DATE:20260629
SUMMARY:Deutsche Meisterschaften Senioren
URL:https://skk-moerslingen.de/index.php?option=com_jem&view=event&id=2242:
 deutsche-meisterschaften-senioren
END:VEVENT
END:VCALENDAR