BEGIN:VCALENDAR
VERSION:2.0
PRODID:-//94.130.255.168//NONSGML kigkonsult.se iCalcreator 2.20//
CALSCALE:GREGORIAN
METHOD:PUBLISH
X-WR-TIMEZONE:UTC
BEGIN:VEVENT
UID:event2243@SKK Mörslingen
DTSTAMP:20260422T082606Z
CATEGORIES:Jahreshauptversammlung mit Saisonabschlussfeier
DESCRIPTION:Jahreshauptversammlung mit Saisonabschlussfeier\nKategorie: Jah
 reshauptversammlung mit Saisonabschlussfeier\nICS-Link: https://skk-moersl
 ingen.de/index.php?option=com_jem&view=event&id=2243:jahreshauptversammlun
 g-mit-saisonabschlussfeier\n
DTSTART:20260703T193000Z
DTEND:20260703T193000Z
LOCATION:Landgasthof „Zum Schlössle'\,Am Schößle 1\,89435 Finningen
SUMMARY:Jahreshauptversammlung mit Saisonabschlussfeier
URL:https://skk-moerslingen.de/index.php?option=com_jem&view=event&id=2243:
 jahreshauptversammlung-mit-saisonabschlussfeier
END:VEVENT
END:VCALENDAR